BEGIN:VCALENDAR
VERSION:2.0
PRODID:-//amsterdam.firespring.org//NONSGML kigkonsult.se iCalcreator 2.30.
 10//
CALSCALE:GREGORIAN
METHOD:PUBLISH
UID:95b51984-a812-4c90-bfe9-40cb2665dfa4
X-WR-CALDESC:Volunteer Appreciation Week is a monthly celebration observed 
 to promote and show appreciation for volunteerism and volunteering.\n\n<st
 rong>Our Community Benefits from Volunteering:</strong>\n<ul>\n<li>Strengt
 hens Community Bonds: Volunteers help provide essential services\, support
  schools\, youth\, and families\, and address local challenges\, creating 
 a stronger\, more vibrant\, and connected community for everyone.</li>\n\n
 <li>Catalyzes Positive Change: Volunteers are often the backbone of initia
 tives that lead to positive transformations\, such as environmental effort
 s\, education programs\, and crisis support services. </li>\n</ul>\n\n<a h
 ref='/how-to-help/volunteer.html' class='button'>Become a Volunteer</a>
X-WR-RELCALID:48e0a82616a23ba04896a8c34f7cd984
X-WR-TIMEZONE:America/Chicago
BEGIN:VTIMEZONE
TZID:America/Chicago
BEGIN:STANDARD
TZNAME:CST
DTSTART:20281105T020000
TZOFFSETFROM:-0500
TZOFFSETTO:-0600
RDATE:20291104T020000
END:STANDARD
BEGIN:DAYLIGHT
TZNAME:CDT
DTSTART:20280312T020000
TZOFFSETFROM:-0600
TZOFFSETTO:-0500
RDATE:20290311T020000
RDATE:20300310T020000
END:DAYLIGHT
END:VTIMEZONE
BEGIN:VEVENT
UID:f3e5a0f4-2756-4d2f-aeaa-0d7ece5798af
DTSTAMP:20260422T104459Z
DESCRIPTION:Volunteer Appreciation Week is a monthly celebration observed t
 o promote and show appreciation for volunteerism and volunteering.\n\n<str
 ong>Our Community Benefits from Volunteering:</strong>\n<ul>\n<li>Strength
 ens Community Bonds: Volunteers help provide essential services\, support 
 schools\, youth\, and families\, and address local challenges\, creating a
  stronger\, more vibrant\, and connected community for everyone.</li>\n\n<
 li>Catalyzes Positive Change: Volunteers are often the backbone of initiat
 ives that lead to positive transformations\, such as environmental efforts
 \, education programs\, and crisis support services. </li>\n</ul>\n\n<a hr
 ef='/how-to-help/volunteer.html' class='button'>Become a Volunteer</a>
DTSTART;TZID=America/Chicago:20281119T050000
DTEND;TZID=America/Chicago:20281125T050001
LOCATION:
SUMMARY:Volunteer Appreciation Week
END:VEVENT
END:VCALENDAR
