BEGIN:VCALENDAR
VERSION:2.0
PRODID:-//amsterdam.firespring.org//NONSGML kigkonsult.se iCalcreator 2.30.
 10//
CALSCALE:GREGORIAN
METHOD:PUBLISH
UID:dec4b8f0-fbf8-4d03-a343-3dd69702dc07
X-WR-CALDESC:Your favorite children's books read aloud in both English and 
 Russian.\n\nВаши любимые детские книги\, прочитанные вслух на английском и
  русском языках.
X-WR-RELCALID:1d880e1dcf59bebe865646baf64ee486
X-WR-TIMEZONE:America/Chicago
BEGIN:VTIMEZONE
TZID:America/Chicago
BEGIN:STANDARD
TZNAME:CST
DTSTART:20291104T020000
TZOFFSETFROM:-0500
TZOFFSETTO:-0600
RDATE:20301103T020000
END:STANDARD
BEGIN:DAYLIGHT
TZNAME:CDT
DTSTART:20290311T020000
TZOFFSETFROM:-0600
TZOFFSETTO:-0500
RDATE:20300310T020000
RDATE:20310309T020000
END:DAYLIGHT
END:VTIMEZONE
BEGIN:VEVENT
UID:c4f64a49-bf00-4242-8069-93101ba319e1
DTSTAMP:20260423T085738Z
DESCRIPTION:Your favorite children's books read aloud in both English and R
 ussian.\n\nВаши любимые детские книги\, прочитанные вслух на английском и 
 русском языках.
DTSTART;TZID=America/Chicago:20291122T093000
DTEND;TZID=America/Chicago:20291122T103000
LOCATION:1201 Infinity Court\, Lincoln\, NE 68512 US
SUMMARY:Bilingual Story Hour / Двуязычный час историй
END:VEVENT
END:VCALENDAR
