BEGIN:VCALENDAR
VERSION:2.0
PRODID:-//amsterdam.firespring.org//NONSGML kigkonsult.se iCalcreator 2.30.
 10//
CALSCALE:GREGORIAN
METHOD:PUBLISH
UID:c9d77204-6b22-4d4d-8f51-bd1e3c5eed2b
X-WR-CALDESC:Your favorite children's books read aloud in both English and 
 Russian.\n\nВаши любимые детские книги\, прочитанные вслух на английском и
  русском языках.
X-WR-RELCALID:ad148edb483d6e50f292ba2cb5f8848b
X-WR-TIMEZONE:America/Chicago
BEGIN:VTIMEZONE
TZID:America/Chicago
BEGIN:STANDARD
TZNAME:CST
DTSTART:20291104T020000
TZOFFSETFROM:-0500
TZOFFSETTO:-0600
RDATE:20301103T020000
END:STANDARD
BEGIN:DAYLIGHT
TZNAME:CDT
DTSTART:20300310T020000
TZOFFSETFROM:-0600
TZOFFSETTO:-0500
RDATE:20310309T020000
END:DAYLIGHT
END:VTIMEZONE
BEGIN:VEVENT
UID:203d27a7-79d7-4c34-b19b-fa864583fe77
DTSTAMP:20260423T142751Z
DESCRIPTION:Your favorite children's books read aloud in both English and R
 ussian.\n\nВаши любимые детские книги\, прочитанные вслух на английском и 
 русском языках.
DTSTART;TZID=America/Chicago:20300321T093000
DTEND;TZID=America/Chicago:20300321T103000
LOCATION:1201 Infinity Court\, Lincoln\, NE 68512 US
SUMMARY:Bilingual Story Hour / Двуязычный час историй
END:VEVENT
END:VCALENDAR
