BEGIN:VCALENDAR
VERSION:2.0
PRODID:-//amsterdam.firespring.org//NONSGML kigkonsult.se iCalcreator 2.30.
 10//
CALSCALE:GREGORIAN
METHOD:PUBLISH
UID:39594065-fc8f-4870-b0cd-f424438f3a42
X-WR-CALDESC:Your favorite children's books read aloud in both English and 
 Russian.\n\nВаши любимые детские книги\, прочитанные вслух на английском и
  русском языках.
X-WR-RELCALID:2d6d56487417985e167b8a0d0d02c162
X-WR-TIMEZONE:America/Chicago
BEGIN:VTIMEZONE
TZID:America/Chicago
BEGIN:STANDARD
TZNAME:CST
DTSTART:20301103T020000
TZOFFSETFROM:-0500
TZOFFSETTO:-0600
RDATE:20311102T020000
END:STANDARD
BEGIN:DAYLIGHT
TZNAME:CDT
DTSTART:20300310T020000
TZOFFSETFROM:-0600
TZOFFSETTO:-0500
RDATE:20310309T020000
RDATE:20320314T020000
END:DAYLIGHT
END:VTIMEZONE
BEGIN:VEVENT
UID:99af8fb2-47d5-41ff-84c5-e6c67dad1272
DTSTAMP:20260424T050532Z
DESCRIPTION:Your favorite children's books read aloud in both English and R
 ussian.\n\nВаши любимые детские книги\, прочитанные вслух на английском и 
 русском языках.
DTSTART;TZID=America/Chicago:20301226T093000
DTEND;TZID=America/Chicago:20301226T103000
LOCATION:1201 Infinity Court\, Lincoln\, NE 68512 US
SUMMARY:Bilingual Story Hour / Двуязычный час историй
END:VEVENT
END:VCALENDAR
