BEGIN:VCALENDAR
VERSION:2.0
PRODID:-//amsterdam.firespring.org//NONSGML kigkonsult.se iCalcreator 2.30.
 10//
CALSCALE:GREGORIAN
METHOD:PUBLISH
UID:3ba669ad-8571-4d8a-a81b-a3f28039deb7
X-WR-CALDESC:Your favorite children's books read aloud in both English and 
 Russian.\n\nВаши любимые детские книги\, прочитанные вслух на английском и
  русском языках.
X-WR-RELCALID:b7c7b7cf54741c87562f89304fd36011
X-WR-TIMEZONE:America/Chicago
BEGIN:VTIMEZONE
TZID:America/Chicago
BEGIN:STANDARD
TZNAME:CST
DTSTART:20301103T020000
TZOFFSETFROM:-0500
TZOFFSETTO:-0600
RDATE:20311102T020000
END:STANDARD
BEGIN:DAYLIGHT
TZNAME:CDT
DTSTART:20300310T020000
TZOFFSETFROM:-0600
TZOFFSETTO:-0500
RDATE:20310309T020000
RDATE:20320314T020000
END:DAYLIGHT
END:VTIMEZONE
BEGIN:VEVENT
UID:3b8a4716-392d-4dc8-ab0a-812cc51ae7b9
DTSTAMP:20260424T064053Z
DESCRIPTION:Your favorite children's books read aloud in both English and R
 ussian.\n\nВаши любимые детские книги\, прочитанные вслух на английском и 
 русском языках.
DTSTART;TZID=America/Chicago:20310107T093000
DTEND;TZID=America/Chicago:20310107T103000
LOCATION:1201 Infinity Court\, Lincoln\, NE 68512 US
SUMMARY:Bilingual Story Hour / Двуязычный час историй
END:VEVENT
END:VCALENDAR
