BEGIN:VCALENDAR
VERSION:2.0
PRODID:-//amsterdam.firespring.org//NONSGML kigkonsult.se iCalcreator 2.30.
 10//
CALSCALE:GREGORIAN
METHOD:PUBLISH
UID:faccace0-6b75-433f-b5aa-e3ba40b326be
X-WR-CALDESC:Your favorite children's books read aloud in both English and 
 Russian.\n\nВаши любимые детские книги\, прочитанные вслух на английском и
  русском языках.
X-WR-RELCALID:495ffb0bcc98b4d9040339b2ee35020f
X-WR-TIMEZONE:America/Chicago
BEGIN:VTIMEZONE
TZID:America/Chicago
BEGIN:STANDARD
TZNAME:CST
DTSTART:20301103T020000
TZOFFSETFROM:-0500
TZOFFSETTO:-0600
RDATE:20311102T020000
END:STANDARD
BEGIN:DAYLIGHT
TZNAME:CDT
DTSTART:20310309T020000
TZOFFSETFROM:-0600
TZOFFSETTO:-0500
RDATE:20320314T020000
END:DAYLIGHT
END:VTIMEZONE
BEGIN:VEVENT
UID:55a84c30-c129-4471-bcf7-3cab1903c38d
DTSTAMP:20260424T094848Z
DESCRIPTION:Your favorite children's books read aloud in both English and R
 ussian.\n\nВаши любимые детские книги\, прочитанные вслух на английском и 
 русском языках.
DTSTART;TZID=America/Chicago:20310325T093000
DTEND;TZID=America/Chicago:20310325T103000
LOCATION:1201 Infinity Court\, Lincoln\, NE 68512 US
SUMMARY:Bilingual Story Hour / Двуязычный час историй
END:VEVENT
END:VCALENDAR
